Workbook

Sheet Export Summary
B3: This document was exported from Numbers. Each table was converted to an Excel worksheet. All other objects on each Numbers sheet were placed on separate worksheets. Please be aware that formula calculations may differ in Excel.
B7: Numbers Sheet Name | C7: Numbers Table Name | D7: Excel Worksheet Name
B9: Financials
C10: Table 1 | D10: Financials
B11: Summary
C12: Table 1 | D12: Summary
B13: Transactions
C14: Table 1 | D14: Transactions
B15: Reconciliation
C16: Table 1 | D16: Reconciliation

Sheet Financials
A3: Sun City Rainbow Club
A4: Financial Report 2/28/25
B6: YTD
A7: Income
A8: Member Dues | B8: 5180
A9: Misc. Income
A10: Donations | B10: 260
A11: Welcome Back Bingo (October) | B11: 70
A12: Friendsgiving (November)
A13: Love Is Love Dinner (February) | B13: 12230.95
A14: March Drag Bingo | B14: 1010
A15: Casino Nights (April) | B15: 70
A16: End of Season Celebration
A17: Total Income | B17: =SUM(B8:B16) -> 18820.95
A19: Events and Expenses
A20: Administrative Expenses:
A21: Bank/PayPal fees
A22: Jotform Subscription | B22: 224.94
A23: Storage Rental Costs | B23: 1076.58
A24: Supplies
A25: New Love is Love Banner | B25: 220.07
A26: Printing and Copying | B26: 271.86
A27: Gift Cards
A28: Other
A29: Total Administrative Expenses | B29: =SUM(B21:B28) -> 1793.45
A30: Event Expenses:
A31: Welcome Back (October)
A32: Thanksgiving Potluck (November) | B32: 338.48
A33: Cookie Exchange (December) | B33: 360.33
A34: Bocce w/ chili cookout (January) | B34: 86.12
A35: Love Is Love Dinner (February) | B35: 6100
A36: March Drag Bingo | B36: 1166
A37: Casino Nights (April)
A38: End of Season Celebration
A39: Total Event Expenses | B39: =SUM(B31:B38) -> 8050.93
A41: Donations
A43: Total Events and Expenses | B43: =B41+B39+B29 -> 9844.38
A45: Net Profit/(Loss) | B45: =B17-B43 -> 8976.57
A47: Checking Account Balance 7/1/24 | B47: 4518.74
A48: Current Balance | B48: =B47+B45 -> 13495.31

Sheet Summary
A3: Sun City Rainbow Club | C3: Notes
A5: Starting Balance | B5: ='Financials'!B47 -> 4518.74
A6: Paypal transfer
A7: Donation | B7: ='Financials'!B10 -> 260
A8: Membership Dues | B8: ='Financials'!B8 -> 5180
A9: Administrative Income | B9: =SUM(B5:B8) -> 9958.74
A11: Administrative costs | B11: ='Financials'!B29 -> 1793.45
A13: Net before Events | B13: =B9-B11 -> 8165.29
A15: Events Net Income/(Loss)
A16: Welcome Back (October) | B16: ='Financials'!B11-'Financials'!B31 -> 70
A17: Thanksgiving Potluck (November) | B17: ='Financials'!B12-'Financials'!B32 -> -338.48
A18: Cookie Exchange (December) | B18: =-'Financials'!B33 -> -360.33
A19: Bocce w/ chili cookout (January) | B19: =-'Financials'!B34 -> -86.12
A20: Love Is Love Dinner (February) | B20: ='Financials'!B13-'Financials'!B35 -> 6130.95
A21: March Drag Bingo | B21: ='Financials'!B14-'Financials'!B36 -> -156
A22: Casino Night | B22: ='Financials'!B15-'Financials'!B37 -> 70
A23: End of Year Celebration | B23: ='Financials'!B16-'Financials'!B38 -> 0
A24: Net Income Events | B24: =SUM(B16:B23) -> 5330.02
A26: Total Current Balance | B26: =B13+B24 -> 13495.31

Sheet Transactions
A1: Table 1
A2: Date | B2: Check No. | C2: Name | D2: Description | E2: Deposits | F2: Expenses | G2: Net
A3: Transactions to Date (7/1/24 - 2/3/25) | E3: 16010 | F3: 5435.2 | G3: 10574.8
A5: Current Transactions (/2/4/25 - 2/28/25)
A6: 02/03/25 | B6: eft | C6: Zelle Deposit | D6: C Woolsey - guest | E6: 100
A7: 02/03/25 | B7: eft | C7: Zelle Deposit | D7: guests - D Rhea, K Clausen | E7: 200
A8: 02/03/25 | B8: eft | C8: Zelle Deposit | D8: J Goodman | E8: 75
A9: 02/03/25 | B9: dep | C9: Check | D9: R Laurents, E Barrett (guest) | E9: 175
A10: 02/04/25 | B10: eft | C10: Public Storage | F10: 110
A11: 02/05/25 | B11: eft | C11: Zelle Deposit | D11: 1 guest M Lickhalter | E11: 100
A12: 02/05/25 | B12: eft | C12: Zelle Deposit | D12: L Houghton plus 5 members | E12: 450
A13: 02/05/25 | B13: eft | C13: Zelle Deposit | D13: guest - D Peters | E13: 100
A14: 02/05/25 | B14: eft | C14: Sheri Holbrook | D14: cups for chili tasting | F14: 294.11
A15: 02/05/25 | B15: eft | C15: Wendy Young | D15: Rainbow Love is Love banner | F15: 220.07
A16: 02/05/25 | B16: eft | C16: Zelle Deposit | D16: G Jackson, G Geisendorfer | E16: 150
A17: 02/08/25 | B17: eft | C17: Zelle Deposit | D17: D Rase, K Belanger | E17: 150
A18: 02/11/25 | B18: eft | C18: Zelle Deposit | D18: B Sweigart, L Bluma (guest) | E18: 175
A19: 02/12/25 | B19: eft | C19: Zelle Deposit | D19: D Bowlin | E19: 20
A20: 02/15/25 | B20: eft | C20: Zelle Deposit | D20: C Lerner - guest | E20: 100
A21: 02/16/25 | B21: eft | C21: Devy Eslaban | D21: Devy Eslaban - decorator balance due | F21: 1750
A22: 02/16/25 | B22: eft | C22: Zelle Deposit | D22: J Gertler, L Schwartz | E22: 30
A23: 02/16/25 | B23: eft | C23: Zelle Deposit | D23: J Garmin, J Zwanziger | E23: 30
A24: 02/16/25 | B24: eft | C24: Zelle Deposit | D24: S Holbrook, S Rosenthal | E24: 70
A25: 02/16/25 | B25: eft | C25: Zelle Deposit | D25: S Holbrook, S Rosenthal | E25: 30
A26: 02/16/25 | B26: eft | C26: Zelle Deposit | D26: N Csrlson, S Querry | E26: 30
A27: 02/16/25 | B27: eft | C27: Zelle Deposit | D27: Carter, Walker and 2 guests | E27: 80
A28: 02/16/25 | B28: eft | C28: Zelle Deposit | D28: P Henderson, S Trull | E28: 30
A29: 02/16/25 | B29: eft | C29: Zelle Deposit | D29: S Dell, J Blank | E29: 30
A30: 02/16/25 | B30: eft | C30: Zelle Deposit | D30: J Blanchard, J Dusenbury | E30: 30
A31: 02/17/25 | B31: eft | C31: Chrissy Marquez | D31: balance due Pulp Vixen plus $200 tip | F31: 2100
A32: 02/17/25 | B32: eft | C32: Zelle Deposit | D32: P Paris, S Bundy | E32: 30
A33: 02/17/25 | B33: eft | C33: Zelle Deposit | D33: V Carpenter, P Combrowski and guests | E33: 55
A34: 02/17/25 | B34: eft | C34: Zelle Deposit | D34: M Townley | E34: 15
A35: 02/17/25 | B35: eft | C35: Zelle Deposit | D35: Paris - 2 guests | E35: 50
A36: 02/19/25 | B36: eft | C36: Zelle Deposit | D36: C Ure and guest | E36: 40
A37: 02/19/25 | B37: eft | C37: Zelle Deposit | D37: J Dunning, R Kleppe | E37: 30
A38: 02/19/25 | B38: eft | C38: Zelle Deposit | D38: L Allen, P Patton | E38: 30
A39: 02/19/25 | B39: dep | C39: Check | D39: J Cohen and guest | E39: 40
A40: 02/19/25 | B40: dep | C40: Check | D40: G Glenn, D Wessel | E40: 30
A41: 02/19/25 | B41: eft | C41: Zelle Deposit | D41: V Harrison and two guests | E41: 65
...

Sheet Reconciliation 
A1: Table 1
A2: Reconciliation Detail - 2/28/25
E3: Type | F3: Date | G3: Num | H3: Name | I3: Clr | J3: Amount | K3: Balance
A4: Beginning Balance | K4: 15038.54
C5: Cleared Transactions
D6: Checks and Payments - 6 items
E7: Check | F7: 02/17/25 | G7: eft | H7: Chrissy Marquez | I7: √ | J7: -2100 | K7: -2100
E8: Check | F8: 02/16/25 | G8: eft | H8: Devy Eslaban | I8: √ | J8: -1750 | K8: -3850
E9: Check | F9: 02/05/25 | G9: eft | H9: Sheri Holbrook | I9: √ | J9: -294.11 | K9: -4144.11
E10: Check | F10: 02/05/25 | G10: eft | H10: Wendy Young | I10: √ | J10: -220.07 | K10: -4364.18
E11: Check | F11: 02/04/25 | G11: eft | H11: Public Storage | I11: √ | J11: -110 | K11: -4474.18
E12: Check | F12: 02/02/25 | G12: eft | H12: Zelle | I12: √ | J12: -25 | K12: -4499.18
D13: Total Checks and Payments | J13: -4499.18 | K13: -4499.18
D14: Deposits and Credits - 45 items
E15: Deposit | F15: 02/17/25 | G15: eft | H15: Zelle Deposit | I15: √ | J15: 15 | K15: 15
E16: Deposit | F16: 02/19/25 | G16: eft | H16: Zelle Deposit | I16: √ | J16: 15 | K16: 30
E17: Deposit | F17: 02/21/25 | G17: eft | H17: Zelle Deposit | I17: √ | J17: 15 | K17: 45
E18: Deposit | F18: 02/25/25 | G18: eft | H18: Zelle Deposit | I18: √ | J18: 15 | K18: 60
E19: Deposit | F19: 02/27/25 | G19: eft | H19: Zelle Deposit | I19: √ | J19: 15 | K19: 75
E20: Deposit | F20: 02/03/25 | G20: dep | H20: Check | I20: √ | J20: 20 | K20: 95
E21: Deposit | F21: 02/03/25 | G21: dep | H21: Check | I21: √ | J21: 20 | K21: 115
E22: Deposit | F22: 02/12/25 | G22: eft | H22: Zelle Deposit | I22: √ | J22: 20 | K22: 135
E23: Deposit | F23: 02/16/25 | G23: eft | H23: Zelle Deposit | I23: √ | J23: 30 | K23: 165
E24: Deposit | F24: 02/16/25 | G24: eft | H24: Zelle Deposit | I24: √ | J24: 30 | K24: 195
E25: Deposit | F25: 02/16/25 | G25: eft | H25: Zelle Deposit | I25: √ | J25: 30 | K25: 225
E26: Deposit | F26: 02/16/25 | G26: eft | H26: Zelle Deposit | I26: √ | J26: 30 | K26: 255
... E59: Deposit | F59: 02/05/25 | G59: eft | H59: Zelle Deposit | I59: √ | J59: 450 | K59: 2940.95
D60: Total Deposits and Credits | J60: 2940.95 | K60: 2940.95
C61: Total Cleared Transactions | J61: -1558.23 | K61: -1558.23
A62: Cleared Balance | J62: -1558.23 | K62: 13480.31
C63: Uncleared Transactions
D64: Deposits and Credits - 1 item
E65: Deposit | F65: 02/20/25 | G65: eft | H65: Zelle Deposit | J65: 15 | K65: 15
D66: Total Deposits and Credits | J66: 15 | K66: 15
C67: Total Uncleared Transactions | J67: 15 | K67: 15
A68: Register Balance as of 02/28/25 | J68: -1543.23 | K68: 13495.31
A69: Ending Balance | J69: -1543.23 | K69: 13495.31
